BEGIN:VCALENDAR
PRODID:-//PUBBLE//agenda//NL
VERSION:2.0
METHOD:PUBLISH
BEGIN:VEVENT
DTSTART:20260421T095551Z
DTEND:20260421T105551Z
DTSTAMP:20260421T150025Z
UID:e591236e-fcfe-455c-a7d4-7a68dba7a0e3
CREATED:20260421T150025Z
NAME:Drie koren op één podium tijdens Duuves Korenfestival in De Ogtent duiven-post.nl
X-WR-CALNAME:Drie koren op één podium tijdens Duuves Korenfestival in De Ogtent
X-ALT-DESC;FMTTYPE=text/html:<a href='/agenda/2026/5/2/drie-koren-op-een-podium-tijdens-duuves-korenfestival-in-de-ogtent-218005'>/agenda/2026/5/2/drie-koren-op-een-podium-tijdens-duuves-korenfestival-in-de-ogtent-218005</a> || <p pstyle="Inleiding AP">DUIVEN - Op zaterdag 2 mei organiseert Duuves Mixed Music het Duuves Korenfestival in De Ogtent in Duiven. Drie koren met elk een eigen geluid vullen de avond met popliedjes, klassieke koormuziek en smartlappen.
</p><p>Popkoor Repeat, het Liemers Mannenkoor en Smartlappenkoor Duiven delen die avond het podium. De drie ensembles brengen ieder een eigen stijl mee. Popkoor Repeat staat bekend om energieke optredens met popsongs uit verschillende decennia. Het Liemers Mannenkoor brengt klassieke koormuziek, musical- en operamelodieën. Smartlappenkoor Duiven sluit de rij met bekende Nederlandstalige liedjes.
</p><p>Door de combinatie van drie verschillende muziekstijlen ontstaat een gevarieerde avond, aldus de organisatie. De zaal van De Ogtent opent om 19.00 uur. Het programma begint om 19.30 uur en eindigt rond 22.45 uur.
</p><p><strong>Tickets</strong>
</p><p>Toegangskaarten kosten €10,00. Bij binnenkomst krijgen bezoekers koffie of thee, en in de pauze is een drankje inbegrepen. Kaarten zijn te koop via de website van Duuves Mixed Music.</p>
DESCRIPTION:<a href='/agenda/2026/5/2/drie-koren-op-een-podium-tijdens-duuves-korenfestival-in-de-ogtent-218005'>/agenda/2026/5/2/drie-koren-op-een-podium-tijdens-duuves-korenfestival-in-de-ogtent-218005</a> || <p pstyle="Inleiding AP">DUIVEN - Op zaterdag 2 mei organiseert Duuves Mixed Music het Duuves Korenfestival in De Ogtent in Duiven. Drie koren met elk een eigen geluid vullen de avond met popliedjes, klassieke koormuziek en smartlappen.
</p><p>Popkoor Repeat, het Liemers Mannenkoor en Smartlappenkoor Duiven delen die avond het podium. De drie ensembles brengen ieder een eigen stijl mee. Popkoor Repeat staat bekend om energieke optredens met popsongs uit verschillende decennia. Het Liemers Mannenkoor brengt klassieke koormuziek, musical- en operamelodieën. Smartlappenkoor Duiven sluit de rij met bekende Nederlandstalige liedjes.
</p><p>Door de combinatie van drie verschillende muziekstijlen ontstaat een gevarieerde avond, aldus de organisatie. De zaal van De Ogtent opent om 19.00 uur. Het programma begint om 19.30 uur en eindigt rond 22.45 uur.
</p><p><strong>Tickets</strong>
</p><p>Toegangskaarten kosten €10,00. Bij binnenkomst krijgen bezoekers koffie of thee, en in de pauze is een drankje inbegrepen. Kaarten zijn te koop via de website van Duuves Mixed Music.</p>
LAST-MODIFIED:20260421T150025Z
LOCATION: Cultuurcentrum DE OGTENT | Remigiusplein 9 Duiven
SEQUENCE:0
STATUS:CONFIRMED
SUMMARY:Drie koren op één podium tijdens Duuves Korenfestival in De Ogtent
TRANSP:OPAQUE
END:VEVENT
END:VCALENDAR
